BEGIN:VCALENDAR
VERSION:2.0
PRODID:-// - ECPv6.15.18//NONSGML v1.0//EN
CALSCALE:GREGORIAN
METHOD:PUBLISH
X-ORIGINAL-URL:https://stratfieldmortimer.com
X-WR-CALDESC:Events for 
REFRESH-INTERVAL;VALUE=DURATION:PT1H
X-Robots-Tag:noindex
X-PUBLISHED-TTL:PT1H
BEGIN:VTIMEZONE
TZID:UTC
BEGIN:STANDARD
TZOFFSETFROM:+0000
TZOFFSETTO:+0000
TZNAME:UTC
DTSTART:20200101T000000
END:STANDARD
END:VTIMEZONE
BEGIN:VEVENT
DTSTART;TZID=UTC:20211026T100000
DTEND;TZID=UTC:20211026T160000
DTSTAMP:20260425T234302
CREATED:20211025T145614Z
LAST-MODIFIED:20211025T145614Z
UID:2818-1635242400-1635264000@stratfieldmortimer.com
SUMMARY:pop up cafe
DESCRIPTION:Support Mortimer Schools Parent Teachers and Friends Association (PTFA) pop-up cafe. \nHomemade cakes\, crisps\, sweets\, drinks\, hot drinks and the chance for a natter (and to use the loo) mid scarecrow trail! \nFunds raised goes to help enrich school life for the children that attend St Mary’s and St John’s schools. \n  \n 
URL:https://stratfieldmortimer.com/event/pop-up-cafe/
LOCATION:Mortimer Community Centre\, The Fairground\, Mortimer\, READING\, Berkshire\, RG7 3RD\, United Kingdom
CATEGORIES:cafe
ATTACH;FMTTYPE=image/jpeg:https://stratfieldmortimer.com/wp-content/uploads/2021/10/248192035_2943512232630383_4666165737328449957_n.jpg
END:VEVENT
END:VCALENDAR