BEGIN:VCALENDAR
VERSION:2.0
PRODID:-// - ECPv6.15.18//NONSGML v1.0//EN
CALSCALE:GREGORIAN
METHOD:PUBLISH
X-ORIGINAL-URL:https://stratfieldmortimer.com
X-WR-CALDESC:Events for 
REFRESH-INTERVAL;VALUE=DURATION:PT1H
X-Robots-Tag:noindex
X-PUBLISHED-TTL:PT1H
BEGIN:VTIMEZONE
TZID:UTC
BEGIN:STANDARD
TZOFFSETFROM:+0000
TZOFFSETTO:+0000
TZNAME:UTC
DTSTART:20220101T000000
END:STANDARD
END:VTIMEZONE
BEGIN:VEVENT
DTSTART;TZID=UTC:20230120T193000
DTEND;TZID=UTC:20230120T220000
DTSTAMP:20260423T024144
CREATED:20230108T213019Z
LAST-MODIFIED:20230108T213158Z
UID:5725-1674243000-1674252000@stratfieldmortimer.com
SUMMARY:MURDER BY THE BOOK – DINNER THEATRE
DESCRIPTION:Mortimer Dramatic Society’s latest production. Classic whodunnit with 3-course meal.
URL:https://stratfieldmortimer.com/event/murder-by-the-book-dinner-theatre/
LOCATION:St John’s Village Hall\, 22 West End Road\, Mortimer RG7 3TF\, 22 West End Road\, Reading\, RG7 3TF\, United Kingdom
CATEGORIES:theatre
ATTACH;FMTTYPE=image/png:https://stratfieldmortimer.com/wp-content/uploads/2023/01/unnamed.png
END:VEVENT
BEGIN:VEVENT
DTSTART;TZID=UTC:20230121T190000
DTEND;TZID=UTC:20230121T220000
DTSTAMP:20260423T024144
CREATED:20230102T225550Z
LAST-MODIFIED:20230103T142153Z
UID:5679-1674327600-1674338400@stratfieldmortimer.com
SUMMARY:MURDER BY THE BOOK - DINNER THEATRE
DESCRIPTION:Mortimer Dramatic Society’s latest production. Classic whodunnit with 3-course meal.
URL:https://stratfieldmortimer.com/event/murder-mystery-dinner-2/
LOCATION:St John’s Village Hall\, 22 West End Road\, Mortimer RG7 3TF\, 22 West End Road\, Reading\, RG7 3TF\, United Kingdom
CATEGORIES:theatre
ATTACH;FMTTYPE=image/png:https://stratfieldmortimer.com/wp-content/uploads/2023/01/unnamed.png
END:VEVENT
BEGIN:VEVENT
DTSTART;TZID=UTC:20230127T190000
DTEND;TZID=UTC:20230127T220000
DTSTAMP:20260423T024144
CREATED:20230102T231102Z
LAST-MODIFIED:20230103T142247Z
UID:5685-1674846000-1674856800@stratfieldmortimer.com
SUMMARY:MURDER BY THE BOOK - DINNER THEATRE
DESCRIPTION:Mortimer Dramatic Society’s latest production. Classic whodunnit with 3-course meal.
URL:https://stratfieldmortimer.com/event/murder-mystery-dinner-4/
LOCATION:St John’s Village Hall\, 22 West End Road\, Mortimer RG7 3TF\, 22 West End Road\, Reading\, RG7 3TF\, United Kingdom
CATEGORIES:theatre
ATTACH;FMTTYPE=image/png:https://stratfieldmortimer.com/wp-content/uploads/2023/01/unnamed.png
END:VEVENT
BEGIN:VEVENT
DTSTART;TZID=UTC:20230128T190000
DTEND;TZID=UTC:20230128T220000
DTSTAMP:20260423T024144
CREATED:20230102T225825Z
LAST-MODIFIED:20230103T142218Z
UID:5682-1674932400-1674943200@stratfieldmortimer.com
SUMMARY:MURDER BY THE BOOK - DINNER THEATRE
DESCRIPTION:Mortimer Dramatic Society’s latest production. Classic whodunnit with 3-course meal.
URL:https://stratfieldmortimer.com/event/murder-mystery-dinner-3/
LOCATION:St John’s Village Hall\, 22 West End Road\, Mortimer RG7 3TF\, 22 West End Road\, Reading\, RG7 3TF\, United Kingdom
CATEGORIES:theatre
ATTACH;FMTTYPE=image/png:https://stratfieldmortimer.com/wp-content/uploads/2023/01/unnamed.png
END:VEVENT
END:VCALENDAR