BEGIN:VCALENDAR
VERSION:2.0
PRODID:-// - ECPv6.15.18//NONSGML v1.0//EN
CALSCALE:GREGORIAN
METHOD:PUBLISH
X-ORIGINAL-URL:https://stratfieldmortimer.com
X-WR-CALDESC:Events for 
REFRESH-INTERVAL;VALUE=DURATION:PT1H
X-Robots-Tag:noindex
X-PUBLISHED-TTL:PT1H
BEGIN:VTIMEZONE
TZID:UTC
BEGIN:STANDARD
TZOFFSETFROM:+0000
TZOFFSETTO:+0000
TZNAME:UTC
DTSTART:20230101T000000
END:STANDARD
END:VTIMEZONE
BEGIN:VEVENT
DTSTART;TZID=UTC:20240512T100000
DTEND;TZID=UTC:20240512T160000
DTSTAMP:20260420T065408
CREATED:20240507T081727Z
LAST-MODIFIED:20240507T081727Z
UID:8107-1715508000-1715529600@stratfieldmortimer.com
SUMMARY:Burghfield May Fayre
DESCRIPTION:Funfair\, Dog Show\, Arena Displays\, Craft Stalls\, Ladies Tug O’ War\, Prince & Princess Competition Cafe\, Food Stalls and Bar
URL:https://stratfieldmortimer.com/event/burghfield-may-fayre/
LOCATION:The Hatch\, RG30 3TJ
CATEGORIES:crafts,Fair
ATTACH;FMTTYPE=image/png:https://stratfieldmortimer.com/wp-content/uploads/2024/05/may-fayre.png
END:VEVENT
END:VCALENDAR