BEGIN:VCALENDAR
VERSION:2.0
PRODID:-// - ECPv6.15.18//NONSGML v1.0//EN
CALSCALE:GREGORIAN
METHOD:PUBLISH
X-ORIGINAL-URL:https://stratfieldmortimer.com
X-WR-CALDESC:Events for 
REFRESH-INTERVAL;VALUE=DURATION:PT1H
X-Robots-Tag:noindex
X-PUBLISHED-TTL:PT1H
BEGIN:VTIMEZONE
TZID:UTC
BEGIN:STANDARD
TZOFFSETFROM:+0000
TZOFFSETTO:+0000
TZNAME:UTC
DTSTART:20230101T000000
END:STANDARD
END:VTIMEZONE
BEGIN:VEVENT
DTSTART;TZID=UTC:20240426T100000
DTEND;TZID=UTC:20240426T120000
DTSTAMP:20260420T084116
CREATED:20240418T122903Z
LAST-MODIFIED:20240418T122903Z
UID:7917-1714125600-1714132800@stratfieldmortimer.com
SUMMARY:Craft Stash Sale
DESCRIPTION:Craft stash\, with cake and refreshments. Non WI members welcome
URL:https://stratfieldmortimer.com/event/craft-stash-sale/
LOCATION:WI House\, The Street\, RG7 3RD
CATEGORIES:cafe,crafts
ATTACH;FMTTYPE=image/jpeg:https://stratfieldmortimer.com/wp-content/uploads/2024/04/437549909_10169403255960311_4427020819771705196_n.jpg
END:VEVENT
END:VCALENDAR