BEGIN:VCALENDAR
VERSION:2.0
PRODID:-// - ECPv6.15.18//NONSGML v1.0//EN
CALSCALE:GREGORIAN
METHOD:PUBLISH
X-ORIGINAL-URL:https://stratfieldmortimer.com
X-WR-CALDESC:Events for 
REFRESH-INTERVAL;VALUE=DURATION:PT1H
X-Robots-Tag:noindex
X-PUBLISHED-TTL:PT1H
BEGIN:VTIMEZONE
TZID:UTC
BEGIN:STANDARD
TZOFFSETFROM:+0000
TZOFFSETTO:+0000
TZNAME:UTC
DTSTART:20220101T000000
END:STANDARD
END:VTIMEZONE
BEGIN:VEVENT
DTSTART;TZID=UTC:20231021T090000
DTEND;TZID=UTC:20231021T170000
DTSTAMP:20260420T154457
CREATED:20231020T072842Z
LAST-MODIFIED:20231020T072842Z
UID:6930-1697878800-1697907600@stratfieldmortimer.com
SUMMARY:Mortimer Scarecrow Trail
DESCRIPTION:9 days of fun from Saturday 21 October.\n\n\nThe Scarecrows will be on show daily from 9am until dusk until Sunday 29 October.\n\n\nTrail maps are now on sale online HERE\n\n\n£50 cash prize draw!\n\n\nPaper trail maps available at Mortimer Co-op\, Dads Shop\, Morrisons and Mortimer library\n\n\n#halftermfun\n#mortimerscarecrowtrail #berkshire
URL:https://stratfieldmortimer.com/event/mortimer-scarecrow-trail-2/
LOCATION:Mortimer Fairground\, RG7 3RD\, United Kingdom
CATEGORIES:community,crafts
ATTACH;FMTTYPE=image/jpeg:https://stratfieldmortimer.com/wp-content/uploads/2023/10/scarecrow-trail.jpg
END:VEVENT
BEGIN:VEVENT
DTSTART;TZID=UTC:20231022T080000
DTEND;TZID=UTC:20231022T170000
DTSTAMP:20260420T154457
CREATED:20231020T073012Z
LAST-MODIFIED:20231020T073146Z
UID:6934-1697961600-1697994000@stratfieldmortimer.com
SUMMARY:Mortimer Scarecrow Trail
DESCRIPTION:9 days of fun from Saturday 21 October.\n\n\nThe Scarecrows will be on show daily from 9am until dusk until Sunday 29 October.\n\n\nTrail maps are now on sale online HERE\n\n\n£50 cash prize draw!\n\n\nPaper trail maps available at Mortimer Co-op\, Dads Shop\, Morrisons and Mortimer library\n\n\n#halftermfun\n#mortimerscarecrowtrail #berkshire
URL:https://stratfieldmortimer.com/event/mortimer-scarecrow-trail-3/
CATEGORIES:community,crafts
ATTACH;FMTTYPE=image/jpeg:https://stratfieldmortimer.com/wp-content/uploads/2023/10/scarecrow-trail.jpg
END:VEVENT
BEGIN:VEVENT
DTSTART;TZID=UTC:20231023T080000
DTEND;TZID=UTC:20231023T170000
DTSTAMP:20260420T154457
CREATED:20231020T073100Z
LAST-MODIFIED:20231020T073205Z
UID:6936-1698048000-1698080400@stratfieldmortimer.com
SUMMARY:Mortimer Scarecrow Trail
DESCRIPTION:9 days of fun from Saturday 21 October.\n\n\nThe Scarecrows will be on show daily from 9am until dusk until Sunday 29 October.\n\n\nTrail maps are now on sale online HERE\n\n\n£50 cash prize draw!\n\n\nPaper trail maps available at Mortimer Co-op\, Dads Shop\, Morrisons and Mortimer library\n\n\n#halftermfun\n#mortimerscarecrowtrail #berkshire
URL:https://stratfieldmortimer.com/event/mortimer-scarecrow-trail-4/
CATEGORIES:community,crafts
ATTACH;FMTTYPE=image/jpeg:https://stratfieldmortimer.com/wp-content/uploads/2023/10/scarecrow-trail.jpg
END:VEVENT
BEGIN:VEVENT
DTSTART;TZID=UTC:20231024T080000
DTEND;TZID=UTC:20231024T170000
DTSTAMP:20260420T154457
CREATED:20231020T073401Z
LAST-MODIFIED:20231020T073401Z
UID:6938-1698134400-1698166800@stratfieldmortimer.com
SUMMARY:Mortimer Scarecrow Trail
DESCRIPTION:9 days of fun from Saturday 21 October.\n\n\nThe Scarecrows will be on show daily from 9am until dusk until Sunday 29 October.\n\n\nTrail maps are now on sale online HERE\n\n\n£50 cash prize draw!\n\n\nPaper trail maps available at Mortimer Co-op\, Dads Shop\, Morrisons and Mortimer library\n\n\n#halftermfun\n#mortimerscarecrowtrail #berkshire
URL:https://stratfieldmortimer.com/event/mortimer-scarecrow-trail-5/
CATEGORIES:community,crafts
ATTACH;FMTTYPE=image/jpeg:https://stratfieldmortimer.com/wp-content/uploads/2023/10/scarecrow-trail.jpg
END:VEVENT
BEGIN:VEVENT
DTSTART;TZID=UTC:20231025T080000
DTEND;TZID=UTC:20231025T170000
DTSTAMP:20260420T154457
CREATED:20231020T073535Z
LAST-MODIFIED:20231020T073535Z
UID:6940-1698220800-1698253200@stratfieldmortimer.com
SUMMARY:Mortimer Scarecrow Trail
DESCRIPTION:9 days of fun from Saturday 21 October.\n\n\nThe Scarecrows will be on show daily from 9am until dusk until Sunday 29 October.\n\n\nTrail maps are now on sale online HERE\n\n\n£50 cash prize draw!\n\n\nPaper trail maps available at Mortimer Co-op\, Dads Shop\, Morrisons and Mortimer library\n\n\n#halftermfun\n#mortimerscarecrowtrail #berkshire
URL:https://stratfieldmortimer.com/event/mortimer-scarecrow-trail-6/
CATEGORIES:crafts
ATTACH;FMTTYPE=image/jpeg:https://stratfieldmortimer.com/wp-content/uploads/2023/10/scarecrow-trail.jpg
END:VEVENT
BEGIN:VEVENT
DTSTART;TZID=UTC:20231026T090000
DTEND;TZID=UTC:20231026T170000
DTSTAMP:20260420T154457
CREATED:20231020T073606Z
LAST-MODIFIED:20231020T132217Z
UID:6942-1698310800-1698339600@stratfieldmortimer.com
SUMMARY:Mortimer Scarecrow Trail
DESCRIPTION:9 days of fun from Saturday 21 October.\n\n\nThe Scarecrows will be on show daily from 9am until dusk until Sunday 29 October.\n\n\nTrail maps are now on sale online HERE\n\n\n£50 cash prize draw!\n\n\nPaper trail maps available at Mortimer Co-op\, Dads Shop\, Morrisons and Mortimer library\n\n\n#halftermfun\n#mortimerscarecrowtrail #berkshire
URL:https://stratfieldmortimer.com/event/6942/
CATEGORIES:crafts
ATTACH;FMTTYPE=image/jpeg:https://stratfieldmortimer.com/wp-content/uploads/2023/10/scarecrow-trail.jpg
END:VEVENT
BEGIN:VEVENT
DTSTART;TZID=UTC:20231027T090000
DTEND;TZID=UTC:20231027T170000
DTSTAMP:20260420T154457
CREATED:20231020T073710Z
LAST-MODIFIED:20231020T132204Z
UID:6945-1698397200-1698426000@stratfieldmortimer.com
SUMMARY:Mortimer Scarecrow Trail
DESCRIPTION:9 days of fun from Saturday 21 October.\n\n\nThe Scarecrows will be on show daily from 9am until dusk until Sunday 29 October.\n\n\nTrail maps are now on sale online HERE\n\n\n£50 cash prize draw!\n\n\nPaper trail maps available at Mortimer Co-op\, Dads Shop\, Morrisons and Mortimer library\n\n\n#halftermfun\n#mortimerscarecrowtrail #berkshire
URL:https://stratfieldmortimer.com/event/6945/
LOCATION:Mortimer Fairground\, RG7 3RD\, United Kingdom
CATEGORIES:crafts
ATTACH;FMTTYPE=image/jpeg:https://stratfieldmortimer.com/wp-content/uploads/2023/10/scarecrow-trail.jpg
END:VEVENT
BEGIN:VEVENT
DTSTART;TZID=UTC:20231028T080000
DTEND;TZID=UTC:20231028T170000
DTSTAMP:20260420T154457
CREATED:20231020T073744Z
LAST-MODIFIED:20231020T074217Z
UID:6947-1698480000-1698512400@stratfieldmortimer.com
SUMMARY:Mortimer Scarecrow Trail
DESCRIPTION:9 days of fun from Saturday 21 October.\n\n\nThe Scarecrows will be on show daily from 9am until dusk until Sunday 29 October.\n\n\nTrail maps are now on sale online HERE\n\n\n£50 cash prize draw!\n\n\nPaper trail maps available at Mortimer Co-op\, Dads Shop\, Morrisons and Mortimer library\n\n\n#halftermfun\n#mortimerscarecrowtrail #berkshire
URL:https://stratfieldmortimer.com/event/6947/
LOCATION:Mortimer Fairground\, RG7 3RD\, United Kingdom
CATEGORIES:crafts
ATTACH;FMTTYPE=image/jpeg:https://stratfieldmortimer.com/wp-content/uploads/2023/10/scarecrow-trail.jpg
END:VEVENT
BEGIN:VEVENT
DTSTART;TZID=UTC:20231028T080000
DTEND;TZID=UTC:20231028T170000
DTSTAMP:20260420T154457
CREATED:20231020T073839Z
LAST-MODIFIED:20231020T074208Z
UID:6949-1698480000-1698512400@stratfieldmortimer.com
SUMMARY:Mortimer Scarecrow Trail
DESCRIPTION:9 days of fun from Saturday 21 October.\n\n\nThe Scarecrows will be on show daily from 9am until dusk until Sunday 29 October.\n\n\nTrail maps are now on sale online HERE\n\n\n£50 cash prize draw!\n\n\nPaper trail maps available at Mortimer Co-op\, Dads Shop\, Morrisons and Mortimer library\n\n\n#halftermfun\n#mortimerscarecrowtrail #berkshire
URL:https://stratfieldmortimer.com/event/6949/
LOCATION:Mortimer Fairground\, RG7 3RD\, United Kingdom
CATEGORIES:crafts
ATTACH;FMTTYPE=image/jpeg:https://stratfieldmortimer.com/wp-content/uploads/2023/10/scarecrow-trail.jpg
END:VEVENT
BEGIN:VEVENT
DTSTART;TZID=UTC:20231029T090000
DTEND;TZID=UTC:20231029T163000
DTSTAMP:20260420T154457
CREATED:20231020T073922Z
LAST-MODIFIED:20231020T074155Z
UID:6951-1698570000-1698597000@stratfieldmortimer.com
SUMMARY:Mortimer Scarecrow Trail
DESCRIPTION:9 days of fun from Saturday 21 October.\n\n\nThe Scarecrows will be on show daily from 9am until dusk until Sunday 29 October.\n\n\nTrail maps are now on sale online HERE\n\n\n£50 cash prize draw!\n\n\nPaper trail maps available at Mortimer Co-op\, Dads Shop\, Morrisons and Mortimer library\n\n\n#halftermfun\n#mortimerscarecrowtrail #berkshire
URL:https://stratfieldmortimer.com/event/6951/
LOCATION:Mortimer Fairground\, RG7 3RD\, United Kingdom
CATEGORIES:crafts
ATTACH;FMTTYPE=image/jpeg:https://stratfieldmortimer.com/wp-content/uploads/2023/10/scarecrow-trail.jpg
END:VEVENT
END:VCALENDAR