BEGIN:VCALENDAR
VERSION:2.0
PRODID:-// - ECPv6.15.18//NONSGML v1.0//EN
CALSCALE:GREGORIAN
METHOD:PUBLISH
X-ORIGINAL-URL:https://stratfieldmortimer.com
X-WR-CALDESC:Events for 
REFRESH-INTERVAL;VALUE=DURATION:PT1H
X-Robots-Tag:noindex
X-PUBLISHED-TTL:PT1H
BEGIN:VTIMEZONE
TZID:UTC
BEGIN:STANDARD
TZOFFSETFROM:+0000
TZOFFSETTO:+0000
TZNAME:UTC
DTSTART:20250101T000000
END:STANDARD
END:VTIMEZONE
BEGIN:VEVENT
DTSTART;TZID=UTC:20260424T183000
DTEND;TZID=UTC:20260424T191500
DTSTAMP:20260424T014056
CREATED:20260421T062009Z
LAST-MODIFIED:20260421T062009Z
UID:11892-1777055400-1777058100@stratfieldmortimer.com
SUMMARY:Neighbourhood Police - Have Your Say
DESCRIPTION:The Neighbourhood Police team will be offering advice\, discussing local issues and answering any questions. The session takes place in the village hall
URL:https://stratfieldmortimer.com/event/neighbourhood-police-have-your-say-3/
LOCATION:Burghfield Village Hall\, Recreation Road\, Reading\, Berks\, RG7 3EN\, United Kingdom
CATEGORIES:policing
ATTACH;FMTTYPE=image/jpeg:https://stratfieldmortimer.com/wp-content/uploads/2022/05/IMG_3028-e1653514032826.jpg
END:VEVENT
END:VCALENDAR